BEGIN:VCALENDAR
VERSION:2.0
PRODID:-//ACET - ECPv6.15.15//NONSGML v1.0//EN
CALSCALE:GREGORIAN
METHOD:PUBLISH
X-ORIGINAL-URL:https://www.torredelmar.org
X-WR-CALDESC:Eventos para ACET
REFRESH-INTERVAL;VALUE=DURATION:PT1H
X-Robots-Tag:noindex
X-PUBLISHED-TTL:PT1H
BEGIN:VTIMEZONE
TZID:UTC
BEGIN:STANDARD
TZOFFSETFROM:+0000
TZOFFSETTO:+0000
TZNAME:UTC
DTSTART:20230101T000000
END:STANDARD
END:VTIMEZONE
BEGIN:VEVENT
DTSTART;VALUE=DATE:20240412
DTEND;VALUE=DATE:20260413
DTSTAMP:20260419T204641
CREATED:20260210T090141Z
LAST-MODIFIED:20260210T090858Z
UID:1924-1712880000-1776038399@www.torredelmar.org
SUMMARY:CENA EMPRESARIAL 2024
DESCRIPTION:El viernes 12 de abril\, en el Hotel Cortijo Bravo\, se llevó a cabo la Cena Empresarial y Entrega de Distinciones\, un evento anual organizado por nuestra asociación en colaboración con nuestros colegas de la Asociación de Empresarios de Vélez Málaga. \nEn esta ocasión\, se otorgaron distinciones a dos empresas y a un empresario destacado: \n\nFARMACIA LARA ALBA\nALIMENTACIÓN LA AXARQUÍA\nFRANCISCO JIMÉNEZ BAYO (Paco Barito)\n\nLe invitamos a consultar la galería de fotos y\, especialmente\, a visualizar los videos que destacan los logros de los homenajeados. \n<iframe width=”500″ height=”281″ src=”https://www.youtube.com/embed/077rMRT3dNE” title=”Distinción Empresarial 2024 – Alimentacion La Axarquía” frameborder=”0″ allow=”accelerometer; autoplay; clipboard-write; encrypted-media; gyroscope; picture-in-picture; web-share” referrerpolicy=”strict-origin-when-cross-origin” allowfullscreen></iframe> \n<iframe width=”500″ height=”281″ src=”https://www.youtube.com/embed/ov1YYR3_GIA” title=”Distinción Empresarial 2024 – BARITO” frameborder=”0″ allow=”accelerometer; autoplay; clipboard-write; encrypted-media; gyroscope; picture-in-picture; web-share” referrerpolicy=”strict-origin-when-cross-origin” allowfullscreen></iframe> \n<iframe width=”500″ height=”281″ src=”https://www.youtube.com/embed/_Hm7FcWukPM” title=”Distinción Empresarial 2024 – Farmacia Lara Alba” frameborder=”0″ allow=”accelerometer; autoplay; clipboard-write; encrypted-media; gyroscope; picture-in-picture; web-share” referrerpolicy=”strict-origin-when-cross-origin” allowfullscreen></iframe>
URL:https://www.torredelmar.org/event/cena-empresarial-2024/
LOCATION:Málaga
ATTACH;FMTTYPE=image/jpeg:https://www.torredelmar.org/wp-content/uploads/2026/02/EventoCena.jpg
END:VEVENT
END:VCALENDAR